BEGIN:VCALENDAR
VERSION:2.0
PRODID:-//hacksw/handcal//NONSGML v1.0//EN
BEGIN:VEVENT
SUMMARY:Commpetition Golf Passion / Route du Swing 31/05/2026
UID:e4fe2e88-b872-4940-90cd-c238f4164d09
DTSTART:20260531T060000Z
DTEND:20260531T160000Z
LOCATION:Localisation   
CATEGORIES:Sportif
STATUS:
DESCRIPTION:<p>La competition  co- sponsorisee par  Golf Passion
 (Rouen) et L' agence de voyage Golfique " La Route du
 Swing"</p>
 
 <p>aura lieu cette annee sur le golf de Center Parcs  ,
 les bois Francs  le dimanche 31 mai 2026</p>
 
 <p>Nombreux lots de
 golf de notre sponsor Golf Passion (Rouen ) + un sejour pour 2 
 (avion+ hotel+ greenfee au Maroc offert par notre partenaire La Route
 du Swing) : sejour attribue au tirage au sort lors des resultats de
 la competition</p>
 
 <p>inscription au Club house </p>
 
 <p>ou ici sur
 le site ASGB27.com</p>
 
 <p> </p>
URL;VALUE=URI:https://www.asgb27.com/evenements/2026/05/31/commpetition-golf-passion-route-du-swing-31052026-2443941
END:VEVENT
END:VCALENDAR
